BEGIN:VCALENDAR
VERSION:2.0
PRODID:-//Arizona Power Authority - ECPv6.15.20//NONSGML v1.0//EN
CALSCALE:GREGORIAN
METHOD:PUBLISH
X-WR-CALNAME:Arizona Power Authority
X-ORIGINAL-URL:https://powerauthority.org
X-WR-CALDESC:Events for Arizona Power Authority
REFRESH-INTERVAL;VALUE=DURATION:PT1H
X-Robots-Tag:noindex
X-PUBLISHED-TTL:PT1H
BEGIN:VTIMEZONE
TZID:UTC
BEGIN:STANDARD
TZOFFSETFROM:+0000
TZOFFSETTO:+0000
TZNAME:UTC
DTSTART:20230101T000000
END:STANDARD
END:VTIMEZONE
BEGIN:VEVENT
DTSTART;TZID=UTC:20240416T100000
DTEND;TZID=UTC:20240416T110000
DTSTAMP:20260421T051747
CREATED:20240411T013121Z
LAST-MODIFIED:20240415T231305Z
UID:4428-1713261600-1713265200@powerauthority.org
SUMMARY:Commission Meeting\, April 16\, 2024
DESCRIPTION:Get Agenda & Meeting Materials
URL:https://powerauthority.org/calendar/commission-meeting-april-16-2024
LOCATION:Arizona Power Authority\, 1810 W. Adams St.\, Phoenix\, AZ\, 85021\, United States
CATEGORIES:Commission Meeting Events
ORGANIZER;CN="Arizona Power Authority":MAILTO:info@powerauthority.org
END:VEVENT
END:VCALENDAR