BEGIN:VCALENDAR
VERSION:2.0
PRODID:-//Arizona Power Authority - ECPv6.15.20//NONSGML v1.0//EN
CALSCALE:GREGORIAN
METHOD:PUBLISH
X-WR-CALNAME:Arizona Power Authority
X-ORIGINAL-URL:https://powerauthority.org
X-WR-CALDESC:Events for Arizona Power Authority
REFRESH-INTERVAL;VALUE=DURATION:PT1H
X-Robots-Tag:noindex
X-PUBLISHED-TTL:PT1H
BEGIN:VTIMEZONE
TZID:UTC
BEGIN:STANDARD
TZOFFSETFROM:+0000
TZOFFSETTO:+0000
TZNAME:UTC
DTSTART:20220101T000000
END:STANDARD
END:VTIMEZONE
BEGIN:VEVENT
DTSTART;TZID=UTC:20230613T093000
DTEND;TZID=UTC:20230613T100000
DTSTAMP:20260423T041149
CREATED:20230611T102522Z
LAST-MODIFIED:20230611T102550Z
UID:4208-1686648600-1686650400@powerauthority.org
SUMMARY:Farewell Reception for Gary Kern
DESCRIPTION:
URL:https://powerauthority.org/calendar/farewell-reception-for-gary-kern
LOCATION:Arizona Power Authority\, 1810 W. Adams St.\, Phoenix\, AZ\, 85021\, United States
ORGANIZER;CN="Arizona Power Authority":MAILTO:info@powerauthority.org
END:VEVENT
BEGIN:VEVENT
DTSTART;TZID=UTC:20230613T100000
DTEND;TZID=UTC:20230613T110000
DTSTAMP:20260423T041149
CREATED:20230414T054600Z
LAST-MODIFIED:20230414T054600Z
UID:4172-1686650400-1686654000@powerauthority.org
SUMMARY:Commission Meeting June 13\, 2023
DESCRIPTION:Get Agenda & Meeting Materials
URL:https://powerauthority.org/calendar/commission-meeting-june-13-2023
LOCATION:Arizona Power Authority\, 1810 W. Adams St.\, Phoenix\, AZ\, 85021\, United States
CATEGORIES:Commission Meeting Events
ORGANIZER;CN="Arizona Power Authority":MAILTO:info@powerauthority.org
END:VEVENT
BEGIN:VEVENT
DTSTART;TZID=UTC:20230613T113000
DTEND;TZID=UTC:20230613T123000
DTSTAMP:20260423T041149
CREATED:20230611T102345Z
LAST-MODIFIED:20230611T102345Z
UID:4206-1686655800-1686659400@powerauthority.org
SUMMARY:Customer Meeting\, June 13\, 2023
DESCRIPTION:
URL:https://powerauthority.org/calendar/customer-meeting-june-13-2023
LOCATION:Arizona Power Authority\, 1810 W. Adams St.\, Phoenix\, AZ\, 85021\, United States
ORGANIZER;CN="Arizona Power Authority":MAILTO:info@powerauthority.org
END:VEVENT
END:VCALENDAR