BEGIN:VCALENDAR
VERSION:2.0
PRODID:-//Arizona Power Authority - ECPv6.15.20//NONSGML v1.0//EN
CALSCALE:GREGORIAN
METHOD:PUBLISH
X-ORIGINAL-URL:https://powerauthority.org
X-WR-CALDESC:Events for Arizona Power Authority
REFRESH-INTERVAL;VALUE=DURATION:PT1H
X-Robots-Tag:noindex
X-PUBLISHED-TTL:PT1H
BEGIN:VTIMEZONE
TZID:America/Phoenix
BEGIN:STANDARD
TZOFFSETFROM:-0700
TZOFFSETTO:-0700
TZNAME:MST
DTSTART:20240101T000000
END:STANDARD
END:VTIMEZONE
BEGIN:VEVENT
DTSTART;TZID=America/Phoenix:20250218T100000
DTEND;TZID=America/Phoenix:20250218T110000
DTSTAMP:20260421T023132
CREATED:20250210T172707Z
LAST-MODIFIED:20250210T172707Z
UID:4654-1739872800-1739876400@powerauthority.org
SUMMARY:Commission Meeting\, February 18\, 2025
DESCRIPTION:Get Agenda & Meeting Materials
URL:https://powerauthority.org/calendar/commission-meeting-february-18-2025
LOCATION:Arizona Power Authority\, 1810 W. Adams St.\, Phoenix\, AZ\, 85021\, United States
CATEGORIES:Commission Meeting Events
ORGANIZER;CN="Arizona Power Authority":MAILTO:info@powerauthority.org
END:VEVENT
BEGIN:VEVENT
DTSTART;TZID=America/Phoenix:20250318T100000
DTEND;TZID=America/Phoenix:20250318T110000
DTSTAMP:20260421T023132
CREATED:20250317T174421Z
LAST-MODIFIED:20250317T212218Z
UID:4683-1742292000-1742295600@powerauthority.org
SUMMARY:Commission Meeting\, March 18\, 2025 (CANCELED)
DESCRIPTION:This will be a VIRTUAL ONLY meeting. The meeting has been CANCELED \nGet Agenda & Meeting Materials
URL:https://powerauthority.org/calendar/commission-meeting-march-18-2025
CATEGORIES:Commission Meeting Events
ORGANIZER;CN="Arizona Power Authority":MAILTO:info@powerauthority.org
END:VEVENT
BEGIN:VEVENT
DTSTART;TZID=America/Phoenix:20250415T100000
DTEND;TZID=America/Phoenix:20250415T110000
DTSTAMP:20260421T023132
CREATED:20250410T021157Z
LAST-MODIFIED:20250410T021220Z
UID:4717-1744711200-1744714800@powerauthority.org
SUMMARY:Commission Meeting\, April 15\, 2025
DESCRIPTION:Get Agenda & Meeting Materials
URL:https://powerauthority.org/calendar/commission-meeting-april-15-2025
LOCATION:Arizona Power Authority\, 1810 W. Adams St.\, Phoenix\, AZ\, 85021\, United States
CATEGORIES:Commission Meeting Events
ORGANIZER;CN="Arizona Power Authority":MAILTO:info@powerauthority.org
END:VEVENT
BEGIN:VEVENT
DTSTART;TZID=America/Phoenix:20250520T100000
DTEND;TZID=America/Phoenix:20250520T110000
DTSTAMP:20260421T023132
CREATED:20250519T165132Z
LAST-MODIFIED:20250519T165132Z
UID:4739-1747735200-1747738800@powerauthority.org
SUMMARY:Commission Meeting\, May 20\, 2025
DESCRIPTION:Get Agenda & Meeting Materials
URL:https://powerauthority.org/calendar/commission-meeting-may-20-2025
LOCATION:Arizona Power Authority\, 1810 W. Adams St.\, Phoenix\, AZ\, 85021\, United States
CATEGORIES:Commission Meeting Events
ORGANIZER;CN="Arizona Power Authority":MAILTO:info@powerauthority.org
END:VEVENT
BEGIN:VEVENT
DTSTART;TZID=America/Phoenix:20250617T100000
DTEND;TZID=America/Phoenix:20250617T110000
DTSTAMP:20260421T023132
CREATED:20250611T185219Z
LAST-MODIFIED:20250611T185219Z
UID:4763-1750154400-1750158000@powerauthority.org
SUMMARY:Commission Meeting\, June 17\, 2025
DESCRIPTION:Get Agenda & Meeting Materials
URL:https://powerauthority.org/calendar/commission-meeting-june-17-2025
LOCATION:Arizona Power Authority\, 1810 W. Adams St.\, Phoenix\, AZ\, 85021\, United States
CATEGORIES:Commission Meeting Events
ORGANIZER;CN="Arizona Power Authority":MAILTO:info@powerauthority.org
END:VEVENT
BEGIN:VEVENT
DTSTART;TZID=America/Phoenix:20250617T113000
DTEND;TZID=America/Phoenix:20250617T123000
DTSTAMP:20260421T023132
CREATED:20250609T221705Z
LAST-MODIFIED:20250609T221705Z
UID:4753-1750159800-1750163400@powerauthority.org
SUMMARY:Customer Meeting\, June 17\, 2025
DESCRIPTION:Get Agenda & Meeting Materials
URL:https://powerauthority.org/calendar/customer-meeting-june-17-2025
LOCATION:Arizona Power Authority\, 1810 W. Adams St.\, Phoenix\, AZ\, 85021\, United States
CATEGORIES:Customer Meeting
ORGANIZER;CN="Arizona Power Authority":MAILTO:info@powerauthority.org
END:VEVENT
BEGIN:VEVENT
DTSTART;TZID=America/Phoenix:20250715T100000
DTEND;TZID=America/Phoenix:20250715T110000
DTSTAMP:20260421T023132
CREATED:20250712T234536Z
LAST-MODIFIED:20250712T234536Z
UID:4789-1752573600-1752577200@powerauthority.org
SUMMARY:Commission Meeting\, July 15\, 2025
DESCRIPTION:Get Agenda & Meeting Materials
URL:https://powerauthority.org/calendar/commission-meeting-july-15-2025
LOCATION:Arizona Power Authority\, 1810 W. Adams St.\, Phoenix\, AZ\, 85021\, United States
CATEGORIES:Commission Meeting Events
ORGANIZER;CN="Arizona Power Authority":MAILTO:info@powerauthority.org
END:VEVENT
BEGIN:VEVENT
DTSTART;TZID=America/Phoenix:20250819T100000
DTEND;TZID=America/Phoenix:20250819T110000
DTSTAMP:20260421T023132
CREATED:20250712T235259Z
LAST-MODIFIED:20250818T201447Z
UID:4792-1755597600-1755601200@powerauthority.org
SUMMARY:Commission Meeting\, August 19\, 2025
DESCRIPTION:Get Agenda & Meeting Materials
URL:https://powerauthority.org/calendar/commission-meeting-august-19-2025
LOCATION:Arizona Power Authority\, 1810 W. Adams St.\, Phoenix\, AZ\, 85021\, United States
CATEGORIES:Commission Meeting Events
ORGANIZER;CN="Arizona Power Authority":MAILTO:info@powerauthority.org
END:VEVENT
BEGIN:VEVENT
DTSTART;TZID=America/Phoenix:20250916T100000
DTEND;TZID=America/Phoenix:20250916T110000
DTSTAMP:20260421T023132
CREATED:20250712T235449Z
LAST-MODIFIED:20250911T205137Z
UID:4794-1758016800-1758020400@powerauthority.org
SUMMARY:Commission Meeting\, September 16\, 2025 (Cancelled)
DESCRIPTION:
URL:https://powerauthority.org/calendar/commission-meeting-september-16-2025
LOCATION:Arizona Power Authority\, 1810 W. Adams St.\, Phoenix\, AZ\, 85021\, United States
CATEGORIES:Commission Meeting Events
ORGANIZER;CN="Arizona Power Authority":MAILTO:info@powerauthority.org
END:VEVENT
BEGIN:VEVENT
DTSTART;TZID=America/Phoenix:20251021T100000
DTEND;TZID=America/Phoenix:20251021T110000
DTSTAMP:20260421T023132
CREATED:20250712T235829Z
LAST-MODIFIED:20251016T212421Z
UID:4796-1761040800-1761044400@powerauthority.org
SUMMARY:Commission Meeting\, October 21\, 2025
DESCRIPTION:Get Agenda & Meeting Materials
URL:https://powerauthority.org/calendar/commission-meeting-october-21-2025
LOCATION:Arizona Power Authority\, 1810 W. Adams St.\, Phoenix\, AZ\, 85021\, United States
CATEGORIES:Commission Meeting Events
ORGANIZER;CN="Arizona Power Authority":MAILTO:info@powerauthority.org
END:VEVENT
BEGIN:VEVENT
DTSTART;TZID=America/Phoenix:20251118T100000
DTEND;TZID=America/Phoenix:20251118T110000
DTSTAMP:20260421T023132
CREATED:20250712T235951Z
LAST-MODIFIED:20251115T005204Z
UID:4798-1763460000-1763463600@powerauthority.org
SUMMARY:Commission Meeting\, November 18\, 2025
DESCRIPTION:Get Agenda & Meeting Materials
URL:https://powerauthority.org/calendar/commission-meeting-november-tbd-2025
LOCATION:Arizona Power Authority\, 1810 W. Adams St.\, Phoenix\, AZ\, 85021\, United States
CATEGORIES:Commission Meeting Events
ORGANIZER;CN="Arizona Power Authority":MAILTO:info@powerauthority.org
END:VEVENT
BEGIN:VEVENT
DTSTART;TZID=America/Phoenix:20260120T100000
DTEND;TZID=America/Phoenix:20260120T110000
DTSTAMP:20260421T023132
CREATED:20251229T230835Z
LAST-MODIFIED:20260117T012938Z
UID:4890-1768903200-1768906800@powerauthority.org
SUMMARY:Commission Meeting\, January 20\, 2026
DESCRIPTION:Get Agenda & Meeting Materials
URL:https://powerauthority.org/calendar/commission-meeting-january-20-2026
LOCATION:Arizona Power Authority\, 1810 W. Adams St.\, Phoenix\, AZ\, 85021\, United States
CATEGORIES:Commission Meeting Events
ORGANIZER;CN="Arizona Power Authority":MAILTO:info@powerauthority.org
END:VEVENT
BEGIN:VEVENT
DTSTART;TZID=America/Phoenix:20260127T100000
DTEND;TZID=America/Phoenix:20260127T120000
DTSTAMP:20260421T023132
CREATED:20260117T013132Z
LAST-MODIFIED:20260117T013256Z
UID:4945-1769508000-1769515200@powerauthority.org
SUMMARY:Customer Consultation Committee Meeting – January 27\, 2026
DESCRIPTION:Get Meeting Information
URL:https://powerauthority.org/calendar/customer-consultation-committee-meeting-january-27-2026
LOCATION:Arizona Power Authority\, 1810 W. Adams St.\, Phoenix\, AZ\, 85021\, United States
CATEGORIES:Customer Meeting
ORGANIZER;CN="Arizona Power Authority":MAILTO:info@powerauthority.org
END:VEVENT
BEGIN:VEVENT
DTSTART;TZID=America/Phoenix:20260317T100000
DTEND;TZID=America/Phoenix:20260317T110000
DTSTAMP:20260421T023132
CREATED:20260316T191640Z
LAST-MODIFIED:20260316T191732Z
UID:4991-1773741600-1773745200@powerauthority.org
SUMMARY:Commission Meeting\, March 17\, 2026
DESCRIPTION:Get Agenda & Meeting Materials
URL:https://powerauthority.org/calendar/commission-meeting-march-17-2026
LOCATION:Arizona Power Authority\, 1810 W. Adams St.\, Phoenix\, AZ\, 85021\, United States
CATEGORIES:Commission Meeting Events
ORGANIZER;CN="Arizona Power Authority":MAILTO:info@powerauthority.org
END:VEVENT
BEGIN:VEVENT
DTSTART;TZID=America/Phoenix:20260421T100000
DTEND;TZID=America/Phoenix:20260421T110000
DTSTAMP:20260421T023132
CREATED:20260420T184017Z
LAST-MODIFIED:20260420T184017Z
UID:5015-1776765600-1776769200@powerauthority.org
SUMMARY:Commission Meeting\, April 21\, 2026
DESCRIPTION:Get Agenda & Meeting Materials
URL:https://powerauthority.org/calendar/commission-meeting-april-21-2026
LOCATION:Arizona Power Authority\, 1810 W. Adams St.\, Phoenix\, AZ\, 85021\, United States
CATEGORIES:Commission Meeting Events
ORGANIZER;CN="Arizona Power Authority":MAILTO:info@powerauthority.org
END:VEVENT
BEGIN:VEVENT
DTSTART;TZID=America/Phoenix:20260519T100000
DTEND;TZID=America/Phoenix:20260519T110000
DTSTAMP:20260421T023132
CREATED:20260420T185124Z
LAST-MODIFIED:20260420T185124Z
UID:5021-1779184800-1779188400@powerauthority.org
SUMMARY:Commission Meeting\, May 19\, 2026
DESCRIPTION:Get Agenda & Meeting Materials
URL:https://powerauthority.org/calendar/commission-meeting-may-19-2026
LOCATION:Arizona Power Authority\, 1810 W. Adams St.\, Phoenix\, AZ\, 85021\, United States
CATEGORIES:Commission Meeting Events
ORGANIZER;CN="Arizona Power Authority":MAILTO:info@powerauthority.org
END:VEVENT
BEGIN:VEVENT
DTSTART;TZID=America/Phoenix:20260616T100000
DTEND;TZID=America/Phoenix:20260616T110000
DTSTAMP:20260421T023132
CREATED:20260420T185243Z
LAST-MODIFIED:20260420T185243Z
UID:5023-1781604000-1781607600@powerauthority.org
SUMMARY:Commission Meeting\, June 16\, 2026
DESCRIPTION:Get Agenda & Meeting Materials
URL:https://powerauthority.org/calendar/commission-meeting-june-16-2026
LOCATION:Arizona Power Authority\, 1810 W. Adams St.\, Phoenix\, AZ\, 85021\, United States
CATEGORIES:Commission Meeting Events
ORGANIZER;CN="Arizona Power Authority":MAILTO:info@powerauthority.org
END:VEVENT
BEGIN:VEVENT
DTSTART;TZID=America/Phoenix:20260721T100000
DTEND;TZID=America/Phoenix:20260721T110000
DTSTAMP:20260421T023132
CREATED:20260420T185412Z
LAST-MODIFIED:20260420T185412Z
UID:5025-1784628000-1784631600@powerauthority.org
SUMMARY:Commission Meeting\, July 21\, 2026
DESCRIPTION:Get Agenda & Meeting Materials
URL:https://powerauthority.org/calendar/commission-meeting-july-21-2026
LOCATION:Arizona Power Authority\, 1810 W. Adams St.\, Phoenix\, AZ\, 85021\, United States
CATEGORIES:Commission Meeting Events
ORGANIZER;CN="Arizona Power Authority":MAILTO:info@powerauthority.org
END:VEVENT
BEGIN:VEVENT
DTSTART;TZID=America/Phoenix:20260818T100000
DTEND;TZID=America/Phoenix:20260818T110000
DTSTAMP:20260421T023132
CREATED:20260420T185540Z
LAST-MODIFIED:20260420T185540Z
UID:5027-1787047200-1787050800@powerauthority.org
SUMMARY:Commission Meeting\, August 18\, 2026
DESCRIPTION:Get Agenda & Meeting Materials
URL:https://powerauthority.org/calendar/commission-meeting-august-18-2026
LOCATION:Arizona Power Authority\, 1810 W. Adams St.\, Phoenix\, AZ\, 85021\, United States
CATEGORIES:Commission Meeting Events
ORGANIZER;CN="Arizona Power Authority":MAILTO:info@powerauthority.org
END:VEVENT
BEGIN:VEVENT
DTSTART;TZID=America/Phoenix:20260915T100000
DTEND;TZID=America/Phoenix:20260915T110000
DTSTAMP:20260421T023132
CREATED:20260420T185659Z
LAST-MODIFIED:20260420T185659Z
UID:5029-1789466400-1789470000@powerauthority.org
SUMMARY:Commission Meeting\, September 15\, 2026
DESCRIPTION:Get Agenda & Meeting Materials
URL:https://powerauthority.org/calendar/commission-meeting-september-15-2026
LOCATION:Arizona Power Authority\, 1810 W. Adams St.\, Phoenix\, AZ\, 85021\, United States
CATEGORIES:Commission Meeting Events
ORGANIZER;CN="Arizona Power Authority":MAILTO:info@powerauthority.org
END:VEVENT
BEGIN:VEVENT
DTSTART;TZID=America/Phoenix:20261020T100000
DTEND;TZID=America/Phoenix:20261020T110000
DTSTAMP:20260421T023132
CREATED:20260420T185814Z
LAST-MODIFIED:20260420T185814Z
UID:5031-1792490400-1792494000@powerauthority.org
SUMMARY:Commission Meeting\, October 20\, 2026
DESCRIPTION:Get Agenda & Meeting Materials
URL:https://powerauthority.org/calendar/commission-meeting-october-20-2026
LOCATION:Arizona Power Authority\, 1810 W. Adams St.\, Phoenix\, AZ\, 85021\, United States
CATEGORIES:Commission Meeting Events
ORGANIZER;CN="Arizona Power Authority":MAILTO:info@powerauthority.org
END:VEVENT
BEGIN:VEVENT
DTSTART;TZID=America/Phoenix:20261117T100000
DTEND;TZID=America/Phoenix:20261117T110000
DTSTAMP:20260421T023132
CREATED:20260420T185925Z
LAST-MODIFIED:20260420T185925Z
UID:5033-1794909600-1794913200@powerauthority.org
SUMMARY:Commission Meeting\, November 17\, 2026
DESCRIPTION:Get Agenda & Meeting Materials
URL:https://powerauthority.org/calendar/commission-meeting-november-17-2026
LOCATION:Arizona Power Authority\, 1810 W. Adams St.\, Phoenix\, AZ\, 85021\, United States
CATEGORIES:Commission Meeting Events
ORGANIZER;CN="Arizona Power Authority":MAILTO:info@powerauthority.org
END:VEVENT
END:VCALENDAR